BEGIN:VCALENDAR
VERSION:2.0
PRODID:-//Saalfelden-Leogang.com//NONSGML kigkonsult.se iCalcreator 2.22.1/
 /EN
METHOD:PUBLISH
X-WR-CALNAME;LANGUAGE=en:Saalfelden-Leogang.com
X-WR-CALDESC;LANGUAGE=en:Saalfelden-Leogang.com
X-WR-TIMEZONE;LANGUAGE=en:Europe/Berlin
BEGIN:VEVENT
UID:20260422T230207CEST-7289jpr4Xw@Saalfelden-Leogang.com
DTSTAMP:20260422T210207Z
DESCRIPTION;LANGUAGE=en:USA\n\n \n\nZoh Amba - saxophone\n\nNick Dunston - 
 bass\n\n\nWhen asked who the improvisensational American saxophonist would
  want to invite to a session\, she quickly chose bassist Nick Dunston. Wha
 t exactly these two creative minds will play here is by nature unpredictab
 le\, but certainly exciting.
DTSTART:20230820T103000Z
DTEND:20230820T110000Z
LOCATION;LANGUAGE=en:Brücklwirtshaus
SUMMARY;LANGUAGE=en:Impro Session: Zoh Amba invites Nick Dunston
END:VEVENT
END:VCALENDAR
